



BEGIN:VCALENDAR
VERSION:2.0
PRODID:-//Stanley High School - ECPv6.15.20//NONSGML v1.0//EN
CALSCALE:GREGORIAN
METHOD:PUBLISH
X-WR-CALNAME:Stanley High School
X-ORIGINAL-URL:https://stanleyhigh.co.uk
X-WR-CALDESC:Events for Stanley High School
REFRESH-INTERVAL;VALUE=DURATION:PT1H
X-Robots-Tag:noindex
X-PUBLISHED-TTL:PT1H
BEGIN:VTIMEZONE
TZID:Europe/London
BEGIN:DAYLIGHT
TZOFFSETFROM:+0000
TZOFFSETTO:+0100
TZNAME:BST
DTSTART:20240331T010000
END:DAYLIGHT
BEGIN:STANDARD
TZOFFSETFROM:+0100
TZOFFSETTO:+0000
TZNAME:GMT
DTSTART:20241027T010000
END:STANDARD
BEGIN:DAYLIGHT
TZOFFSETFROM:+0000
TZOFFSETTO:+0100
TZNAME:BST
DTSTART:20250330T010000
END:DAYLIGHT
BEGIN:STANDARD
TZOFFSETFROM:+0100
TZOFFSETTO:+0000
TZNAME:GMT
DTSTART:20251026T010000
END:STANDARD
BEGIN:DAYLIGHT
TZOFFSETFROM:+0000
TZOFFSETTO:+0100
TZNAME:BST
DTSTART:20260329T010000
END:DAYLIGHT
BEGIN:STANDARD
TZOFFSETFROM:+0100
TZOFFSETTO:+0000
TZNAME:GMT
DTSTART:20261025T010000
END:STANDARD
BEGIN:DAYLIGHT
TZOFFSETFROM:+0000
TZOFFSETTO:+0100
TZNAME:BST
DTSTART:20270328T010000
END:DAYLIGHT
BEGIN:STANDARD
TZOFFSETFROM:+0100
TZOFFSETTO:+0000
TZNAME:GMT
DTSTART:20271031T010000
END:STANDARD
END:VTIMEZONE
BEGIN:VEVENT
DTSTART;TZID=Europe/London:20260416T173000
DTEND;TZID=Europe/London:20260416T183000
DTSTAMP:20260425T143721
CREATED:20260319T153423Z
LAST-MODIFIED:20260319T153423Z
UID:10000153-1776360600-1776364200@stanleyhigh.co.uk
SUMMARY:Meet the Headteacher
DESCRIPTION:YEAR 6 FAMILIES \nWe are pleased to share our ‘Meet the Headteacher’ evening for families whose children will be joining Year 7 at Stanley High School in September 2026. \nThis event is a lovely opportunity to meet our Headteacher\, SENDCO\, Senior Leadership Team\, and the Head of Year 7\, to hear more about life at Stanley and to start looking ahead to the exciting transition to secondary school. \nWe look forward to welcoming you to Stanley!
URL:https://stanleyhigh.co.uk/event/meet-the-headteacher/
ATTACH;FMTTYPE=image/jpeg:https://stanleyhigh.co.uk/wp-content/uploads/2024/01/calendar-featured-1.jpg
END:VEVENT
BEGIN:VEVENT
DTSTART;VALUE=DATE:20260413
DTEND;VALUE=DATE:20260414
DTSTAMP:20260425T143721
CREATED:20250821T110433Z
LAST-MODIFIED:20250821T110551Z
UID:10000131-1776038400-1776124799@stanleyhigh.co.uk
SUMMARY:Start of Term
DESCRIPTION:
URL:https://stanleyhigh.co.uk/event/start-of-term-10/
END:VEVENT
BEGIN:VEVENT
DTSTART;VALUE=DATE:20260406
DTEND;VALUE=DATE:20260407
DTSTAMP:20260425T143721
CREATED:20250821T104432Z
LAST-MODIFIED:20250821T104432Z
UID:10000130-1775433600-1775519999@stanleyhigh.co.uk
SUMMARY:Easter Monday
DESCRIPTION:
URL:https://stanleyhigh.co.uk/event/easter-monday/
END:VEVENT
BEGIN:VEVENT
DTSTART;VALUE=DATE:20260403
DTEND;VALUE=DATE:20260404
DTSTAMP:20260425T143721
CREATED:20250821T104344Z
LAST-MODIFIED:20250821T104344Z
UID:10000129-1775174400-1775260799@stanleyhigh.co.uk
SUMMARY:Good Friday
DESCRIPTION:
URL:https://stanleyhigh.co.uk/event/good-friday/
END:VEVENT
BEGIN:VEVENT
DTSTART;TZID=Europe/London:20260327T080000
DTEND;TZID=Europe/London:20260327T120000
DTSTAMP:20260425T143721
CREATED:20250821T104203Z
LAST-MODIFIED:20250821T104247Z
UID:10000128-1774598400-1774612800@stanleyhigh.co.uk
SUMMARY:End of Term - 12 noon
DESCRIPTION:
URL:https://stanleyhigh.co.uk/event/end-of-term-12-noon-5/
END:VEVENT
BEGIN:VEVENT
DTSTART;TZID=Europe/London:20260313T180000
DTEND;TZID=Europe/London:20260313T203000
DTSTAMP:20260425T143721
CREATED:20260211T153009Z
LAST-MODIFIED:20260211T153039Z
UID:10000149-1773424800-1773433800@stanleyhigh.co.uk
SUMMARY:Joseph and the Amazing Technicolor Dreamcoat
DESCRIPTION:Tickets are £5\, available from https://ticketsource.co.uk/stanleyhigh or by scanning the QR code below
URL:https://stanleyhigh.co.uk/event/joseph-and-the-amazing-technicolor-dreamcoat/2026-03-13/
ATTACH;FMTTYPE=image/png:https://stanleyhigh.co.uk/wp-content/uploads/2026/02/Joseph-header-1892x1254-1.png
END:VEVENT
BEGIN:VEVENT
DTSTART;TZID=Europe/London:20260313T153000
DTEND;TZID=Europe/London:20260313T183000
DTSTAMP:20260425T143721
CREATED:20260313T160219Z
LAST-MODIFIED:20260313T160407Z
UID:10000152-1773415800-1773426600@stanleyhigh.co.uk
SUMMARY:Year 10 Parent Carer Evening
DESCRIPTION:The booking system is now open and we encourage you to book early to ensure you are able to see all the relevant teachers. \nYou will have the opportunity to speak with your child’s teachers to discuss their current progress and get advice and guidance as they move into the last term of Year 10 and plan for their final year working towards their GCSE Exams. \nPlease contact Miss Kent if you have any questions or are unable to attend on the day
URL:https://stanleyhigh.co.uk/event/year-10-parent-carer-evening/
END:VEVENT
BEGIN:VEVENT
DTSTART;VALUE=DATE:20260313
DTEND;VALUE=DATE:20260314
DTSTAMP:20260425T143721
CREATED:20260313T160040Z
LAST-MODIFIED:20260313T160040Z
UID:10000151-1773360000-1773446399@stanleyhigh.co.uk
SUMMARY:Year 11 Macbeth Production
DESCRIPTION:
URL:https://stanleyhigh.co.uk/event/year-11-macbeth-production/
END:VEVENT
BEGIN:VEVENT
DTSTART;TZID=Europe/London:20260312T180000
DTEND;TZID=Europe/London:20260312T203000
DTSTAMP:20260425T143721
CREATED:20260211T153009Z
LAST-MODIFIED:20260211T153039Z
UID:10000148-1773338400-1773347400@stanleyhigh.co.uk
SUMMARY:Joseph and the Amazing Technicolor Dreamcoat
DESCRIPTION:Tickets are £5\, available from https://ticketsource.co.uk/stanleyhigh or by scanning the QR code below
URL:https://stanleyhigh.co.uk/event/joseph-and-the-amazing-technicolor-dreamcoat/2026-03-12/
ATTACH;FMTTYPE=image/png:https://stanleyhigh.co.uk/wp-content/uploads/2026/02/Joseph-header-1892x1254-1.png
END:VEVENT
BEGIN:VEVENT
DTSTART;TZID=Europe/London:20260305T153000
DTEND;TZID=Europe/London:20260305T183000
DTSTAMP:20260425T143721
CREATED:20260224T085645Z
LAST-MODIFIED:20260224T085645Z
UID:10000150-1772724600-1772735400@stanleyhigh.co.uk
SUMMARY:Year 9 Parent/Carer evening
DESCRIPTION:
URL:https://stanleyhigh.co.uk/event/year-9-parent-carer-evening/
END:VEVENT
BEGIN:VEVENT
DTSTART;VALUE=DATE:20260224
DTEND;VALUE=DATE:20260225
DTSTAMP:20260425T143721
CREATED:20250821T104056Z
LAST-MODIFIED:20250821T104056Z
UID:10000127-1771891200-1771977599@stanleyhigh.co.uk
SUMMARY:Start of Term
DESCRIPTION:
URL:https://stanleyhigh.co.uk/event/start-of-term-9/
END:VEVENT
BEGIN:VEVENT
DTSTART;VALUE=DATE:20260223
DTEND;VALUE=DATE:20260224
DTSTAMP:20260425T143721
CREATED:20250821T104010Z
LAST-MODIFIED:20250821T104010Z
UID:10000126-1771804800-1771891199@stanleyhigh.co.uk
SUMMARY:Inset Day - Students not in School
DESCRIPTION:
URL:https://stanleyhigh.co.uk/event/inset-day-students-not-in-school-7/
END:VEVENT
BEGIN:VEVENT
DTSTART;VALUE=DATE:20260216
DTEND;VALUE=DATE:20260221
DTSTAMP:20260425T143721
CREATED:20250821T103926Z
LAST-MODIFIED:20250821T103926Z
UID:10000125-1771200000-1771631999@stanleyhigh.co.uk
SUMMARY:Half Term
DESCRIPTION:
URL:https://stanleyhigh.co.uk/event/half-term-4/
END:VEVENT
BEGIN:VEVENT
DTSTART;VALUE=DATE:20260213
DTEND;VALUE=DATE:20260214
DTSTAMP:20260425T143721
CREATED:20250821T103828Z
LAST-MODIFIED:20250821T103828Z
UID:10000124-1770940800-1771027199@stanleyhigh.co.uk
SUMMARY:End of Term
DESCRIPTION:
URL:https://stanleyhigh.co.uk/event/end-of-term-6/
END:VEVENT
BEGIN:VEVENT
DTSTART;VALUE=DATE:20260130
DTEND;VALUE=DATE:20260131
DTSTAMP:20260425T143721
CREATED:20250821T103738Z
LAST-MODIFIED:20250821T103738Z
UID:10000123-1769731200-1769817599@stanleyhigh.co.uk
SUMMARY:Inset Day - Students not in school
DESCRIPTION:
URL:https://stanleyhigh.co.uk/event/inset-day-students-not-in-school-6/
END:VEVENT
BEGIN:VEVENT
DTSTART;VALUE=DATE:20260105
DTEND;VALUE=DATE:20260106
DTSTAMP:20260425T143721
CREATED:20250821T103649Z
LAST-MODIFIED:20250821T103649Z
UID:10000122-1767571200-1767657599@stanleyhigh.co.uk
SUMMARY:Start of Term
DESCRIPTION:
URL:https://stanleyhigh.co.uk/event/start-of-term-8/
END:VEVENT
BEGIN:VEVENT
DTSTART;TZID=Europe/London:20251219T080000
DTEND;TZID=Europe/London:20251219T120000
DTSTAMP:20260425T143721
CREATED:20250821T103136Z
LAST-MODIFIED:20250821T103136Z
UID:10000120-1766131200-1766145600@stanleyhigh.co.uk
SUMMARY:End of Term - 12 noon
DESCRIPTION:
URL:https://stanleyhigh.co.uk/event/end-of-term-12-noon-3/
END:VEVENT
BEGIN:VEVENT
DTSTART;VALUE=DATE:20251219
DTEND;VALUE=DATE:20251220
DTSTAMP:20260425T143721
CREATED:20250821T103230Z
LAST-MODIFIED:20250821T103603Z
UID:10000121-1766102400-1766188799@stanleyhigh.co.uk
SUMMARY:End of Term - 12 noon
DESCRIPTION:
URL:https://stanleyhigh.co.uk/event/end-of-term-12-noon-4/
END:VEVENT
BEGIN:VEVENT
DTSTART;VALUE=DATE:20251205
DTEND;VALUE=DATE:20251206
DTSTAMP:20260425T143721
CREATED:20250821T103019Z
LAST-MODIFIED:20250821T103019Z
UID:10000119-1764892800-1764979199@stanleyhigh.co.uk
SUMMARY:Inset Day - Students not in school
DESCRIPTION:
URL:https://stanleyhigh.co.uk/event/inset-day-students-not-in-school-5/
END:VEVENT
BEGIN:VEVENT
DTSTART;VALUE=DATE:20251103
DTEND;VALUE=DATE:20251104
DTSTAMP:20260425T143721
CREATED:20250821T102912Z
LAST-MODIFIED:20250821T102912Z
UID:10000118-1762128000-1762214399@stanleyhigh.co.uk
SUMMARY:Start of Term
DESCRIPTION:
URL:https://stanleyhigh.co.uk/event/start-of-term-7/
END:VEVENT
BEGIN:VEVENT
DTSTART;VALUE=DATE:20251027
DTEND;VALUE=DATE:20251101
DTSTAMP:20260425T143721
CREATED:20250821T102823Z
LAST-MODIFIED:20250821T102823Z
UID:10000117-1761523200-1761955199@stanleyhigh.co.uk
SUMMARY:Half Term
DESCRIPTION:
URL:https://stanleyhigh.co.uk/event/half-term-3/
END:VEVENT
BEGIN:VEVENT
DTSTART;VALUE=DATE:20251024
DTEND;VALUE=DATE:20251025
DTSTAMP:20260425T143721
CREATED:20250821T102713Z
LAST-MODIFIED:20250821T102713Z
UID:10000116-1761264000-1761350399@stanleyhigh.co.uk
SUMMARY:End of Term
DESCRIPTION:
URL:https://stanleyhigh.co.uk/event/end-of-term-5/
END:VEVENT
BEGIN:VEVENT
DTSTART;TZID=Europe/London:20251016T131500
DTEND;TZID=Europe/London:20251016T140000
DTSTAMP:20260425T143721
CREATED:20250924T120518Z
LAST-MODIFIED:20250924T120518Z
UID:10000147-1760620500-1760623200@stanleyhigh.co.uk
SUMMARY:The School Tour
DESCRIPTION:Want to see our school in action? To book your place\, please call the school office at 01704 228940.
URL:https://stanleyhigh.co.uk/event/the-school-tour-8/
ATTACH;FMTTYPE=image/jpeg:https://stanleyhigh.co.uk/wp-content/uploads/2024/01/calendar-featured-1.jpg
END:VEVENT
BEGIN:VEVENT
DTSTART;TZID=Europe/London:20251014T091500
DTEND;TZID=Europe/London:20251014T100000
DTSTAMP:20260425T143721
CREATED:20250924T120327Z
LAST-MODIFIED:20250924T120327Z
UID:10000146-1760433300-1760436000@stanleyhigh.co.uk
SUMMARY:The School Tour
DESCRIPTION:Want to see our school in action?\nTo book your place\, please call the school office at 01704 228940.
URL:https://stanleyhigh.co.uk/event/the-school-tour-7/
ATTACH;FMTTYPE=image/jpeg:https://stanleyhigh.co.uk/wp-content/uploads/2024/01/calendar-featured-1.jpg
END:VEVENT
BEGIN:VEVENT
DTSTART;TZID=Europe/London:20251013T021500
DTEND;TZID=Europe/London:20251013T150000
DTSTAMP:20260425T143721
CREATED:20250924T120023Z
LAST-MODIFIED:20250924T130448Z
UID:10000145-1760321700-1760367600@stanleyhigh.co.uk
SUMMARY:The School Tour
DESCRIPTION:Would you like to see our school in action? To secure your spot\, please call the school office at 01704 228940.
URL:https://stanleyhigh.co.uk/event/the-school-tour-6/
ATTACH;FMTTYPE=image/jpeg:https://stanleyhigh.co.uk/wp-content/uploads/2024/01/calendar-featured-1.jpg
END:VEVENT
BEGIN:VEVENT
DTSTART;TZID=Europe/London:20251010T131500
DTEND;TZID=Europe/London:20251010T140000
DTSTAMP:20260425T143721
CREATED:20250924T115031Z
LAST-MODIFIED:20250924T115031Z
UID:10000144-1760102100-1760104800@stanleyhigh.co.uk
SUMMARY:The School Tour
DESCRIPTION:Would you like to see our school in action? To secure your spot\, please call the school office at 01704 228940.
URL:https://stanleyhigh.co.uk/event/the-school-tour-5/
ATTACH;FMTTYPE=image/jpeg:https://stanleyhigh.co.uk/wp-content/uploads/2024/01/calendar-featured-1.jpg
END:VEVENT
BEGIN:VEVENT
DTSTART;TZID=Europe/London:20251008T141500
DTEND;TZID=Europe/London:20251008T150000
DTSTAMP:20260425T143721
CREATED:20250924T114856Z
LAST-MODIFIED:20250924T114856Z
UID:10000143-1759932900-1759935600@stanleyhigh.co.uk
SUMMARY:The School Tour
DESCRIPTION:Would you like to see our school in action? To secure your spot\, please call the school office at 01704 228940.
URL:https://stanleyhigh.co.uk/event/the-school-tour-4/
ATTACH;FMTTYPE=image/jpeg:https://stanleyhigh.co.uk/wp-content/uploads/2024/01/calendar-featured-1.jpg
END:VEVENT
BEGIN:VEVENT
DTSTART;TZID=Europe/London:20251006T091500
DTEND;TZID=Europe/London:20251006T100000
DTSTAMP:20260425T143721
CREATED:20250924T114552Z
LAST-MODIFIED:20250924T114655Z
UID:10000142-1759742100-1759744800@stanleyhigh.co.uk
SUMMARY:The School Tour
DESCRIPTION:Would you like to see our school in action? To secure your spot\, please call the school office at 01704 228940.
URL:https://stanleyhigh.co.uk/event/the-school-tour-3/
ATTACH;FMTTYPE=image/jpeg:https://stanleyhigh.co.uk/wp-content/uploads/2024/01/calendar-featured-1.jpg
END:VEVENT
BEGIN:VEVENT
DTSTART;TZID=Europe/London:20251002T141500
DTEND;TZID=Europe/London:20251002T151500
DTSTAMP:20260425T143721
CREATED:20250923T143913Z
LAST-MODIFIED:20250923T143913Z
UID:10000141-1759414500-1759418100@stanleyhigh.co.uk
SUMMARY:The School Tour
DESCRIPTION:Would you like to see our school in action? To secure your spot\, please call the school office at 01704 228940.
URL:https://stanleyhigh.co.uk/event/the-school-tour-2/
ATTACH;FMTTYPE=image/jpeg:https://stanleyhigh.co.uk/wp-content/uploads/2024/01/calendar-featured-1.jpg
END:VEVENT
BEGIN:VEVENT
DTSTART;TZID=Europe/London:20250930T131500
DTEND;TZID=Europe/London:20250930T141500
DTSTAMP:20260425T143721
CREATED:20250923T143142Z
LAST-MODIFIED:20250923T143436Z
UID:10000140-1759238100-1759241700@stanleyhigh.co.uk
SUMMARY:The School Tour
DESCRIPTION:Want to see our school in action?\nTo book your place\, please call the school office at 01704 228940.
URL:https://stanleyhigh.co.uk/event/3575/
ATTACH;FMTTYPE=image/jpeg:https://stanleyhigh.co.uk/wp-content/uploads/2024/01/calendar-featured-1.jpg
END:VEVENT
END:VCALENDAR